BEGIN:VCALENDAR
VERSION:2.0
PRODID:-//Contratero//ES
CALSCALE:GREGORIAN
METHOD:PUBLISH
BEGIN:VEVENT
UID:2021/760 Delegado Protección Datos@contratero.es
DTSTAMP:20260419T164405Z
DTSTART:20211130T235959
DTEND:20211201T005959
SUMMARY:Cierre: Prestación del servicio de Delegado de Protección 
DESCRIPTION:Prestación del servicio de Delegado de Protección de Datos\\n\\nOrganismo: Alcaldía del Ayuntamiento de Agulo\\n\\nVer en Contratero: https://contratero.es/contracts/2021/760 Delegado Protección Datos
URL:https://contratero.es/contracts/2021/760 Delegado Protección Datos
STATUS:CONFIRMED
BEGIN:VALARM
TRIGGER:-P1D
ACTION:DISPLAY
DESCRIPTION:Recordatorio: Prestación del servicio de Del
END:VALARM
END:VEVENT
END:VCALENDAR